BEGIN:VCALENDAR
VERSION:2.0
PRODID:-//Gerhart-Hauptmann-Realschule - ECPv6.15.20//NONSGML v1.0//EN
CALSCALE:GREGORIAN
METHOD:PUBLISH
X-ORIGINAL-URL:https://www.ghr-leonberg.de
X-WR-CALDESC:Veranstaltungen für Gerhart-Hauptmann-Realschule
REFRESH-INTERVAL;VALUE=DURATION:PT1H
X-Robots-Tag:noindex
X-PUBLISHED-TTL:PT1H
BEGIN:VTIMEZONE
TZID:Europe/Berlin
BEGIN:DAYLIGHT
TZOFFSETFROM:+0100
TZOFFSETTO:+0200
TZNAME:CEST
DTSTART:20180325T010000
END:DAYLIGHT
BEGIN:STANDARD
TZOFFSETFROM:+0200
TZOFFSETTO:+0100
TZNAME:CET
DTSTART:20181028T010000
END:STANDARD
BEGIN:DAYLIGHT
TZOFFSETFROM:+0100
TZOFFSETTO:+0200
TZNAME:CEST
DTSTART:20190331T010000
END:DAYLIGHT
BEGIN:STANDARD
TZOFFSETFROM:+0200
TZOFFSETTO:+0100
TZNAME:CET
DTSTART:20191027T010000
END:STANDARD
BEGIN:DAYLIGHT
TZOFFSETFROM:+0100
TZOFFSETTO:+0200
TZNAME:CEST
DTSTART:20200329T010000
END:DAYLIGHT
BEGIN:STANDARD
TZOFFSETFROM:+0200
TZOFFSETTO:+0100
TZNAME:CET
DTSTART:20201025T010000
END:STANDARD
END:VTIMEZONE
BEGIN:VEVENT
DTSTART;VALUE=DATE:20190313
DTEND;VALUE=DATE:20190315
DTSTAMP:20260423T114908
CREATED:20190227T220538Z
LAST-MODIFIED:20190304T000233Z
UID:1327-1552435200-1552607999@www.ghr-leonberg.de
SUMMARY:Anmeldung für Klasse 5 im Schuljahr 2019/2020
DESCRIPTION:Liebe Eltern\, \ndie Anmeldung für die Klassenstufe 5 an der Gerhart-Hauptmann-Realschule kann zu folgenden Terminen im Sekretariat der GHR erfolgen: \n\nMittwoch\, den 13. März 2019 von 8.00 – 12.00 Uhr und 14.00 – 18 Uhr \nDonnerstag\, den 14. März 2019 von 8.00 Uhr – 12.00 Uhr und 14.00 – 15 Uhr.\n\nBei der Anmeldung müssen sowohl die Geburtsurkunde als auch die Anmeldeblätter 4 und 5 für die weiterführenden Schulen vorgelegt werden. \nDie Grundschulempfehlung\, Anmeldeblatt 7\, muss der weiterführenden Schule vorgelegt werden. \nDie Anmeldung muss von den Erziehungsberechtigten persönlichvorgenommen werden und darf nicht schriftlich erfolgen.
URL:https://www.ghr-leonberg.de/termin/anmeldung-fuer-klasse-5-im-schuljahr-2019-2020/
END:VEVENT
END:VCALENDAR