BEGIN:VCALENDAR
VERSION:2.0
PRODID:-//Gerhart-Hauptmann-Realschule - ECPv6.15.20//NONSGML v1.0//EN
CALSCALE:GREGORIAN
METHOD:PUBLISH
X-ORIGINAL-URL:https://www.ghr-leonberg.de
X-WR-CALDESC:Veranstaltungen für Gerhart-Hauptmann-Realschule
REFRESH-INTERVAL;VALUE=DURATION:PT1H
X-Robots-Tag:noindex
X-PUBLISHED-TTL:PT1H
BEGIN:VTIMEZONE
TZID:Europe/Berlin
BEGIN:DAYLIGHT
TZOFFSETFROM:+0100
TZOFFSETTO:+0200
TZNAME:CEST
DTSTART:20180325T010000
END:DAYLIGHT
BEGIN:STANDARD
TZOFFSETFROM:+0200
TZOFFSETTO:+0100
TZNAME:CET
DTSTART:20181028T010000
END:STANDARD
BEGIN:DAYLIGHT
TZOFFSETFROM:+0100
TZOFFSETTO:+0200
TZNAME:CEST
DTSTART:20190331T010000
END:DAYLIGHT
BEGIN:STANDARD
TZOFFSETFROM:+0200
TZOFFSETTO:+0100
TZNAME:CET
DTSTART:20191027T010000
END:STANDARD
BEGIN:DAYLIGHT
TZOFFSETFROM:+0100
TZOFFSETTO:+0200
TZNAME:CEST
DTSTART:20200329T010000
END:DAYLIGHT
BEGIN:STANDARD
TZOFFSETFROM:+0200
TZOFFSETTO:+0100
TZNAME:CET
DTSTART:20201025T010000
END:STANDARD
END:VTIMEZONE
BEGIN:VEVENT
DTSTART;TZID=Europe/Berlin:20190911T083000
DTEND;TZID=Europe/Berlin:20190911T130000
DTSTAMP:20260422T101121
CREATED:20190730T083753Z
LAST-MODIFIED:20190730T084726Z
UID:1985-1568190600-1568206800@www.ghr-leonberg.de
SUMMARY:Erster Schultag nach den Sommerferien
DESCRIPTION:Am Mittwoch\, den 11.September 2019\, beginnt die Schule für die Klassen 6-10 um 08:30 Uhr. Danach folgen Klassenlehrerstunden und Unterricht nach Plan. \nUm 14:00 Uhr begrüßen wir euch\, liebe Fünftklässlerinnen und Fünfklässler\, und Sie\, liebe Eltern\, sehr herzlich zur Einschulung in unsere Schule. \nWir wünschen allen Schülerinnen und Schüler einen guten Start in das neue Schuljahr und allen Schulanfängern eine wunderschöne Einschulung.
URL:https://www.ghr-leonberg.de/termin/erster-schultag-nach-den-sommerferien/
END:VEVENT
END:VCALENDAR