BEGIN:VCALENDAR
VERSION:2.0
PRODID:-//Gerhart-Hauptmann-Realschule - ECPv6.15.20//NONSGML v1.0//EN
CALSCALE:GREGORIAN
METHOD:PUBLISH
X-ORIGINAL-URL:https://www.ghr-leonberg.de
X-WR-CALDESC:Veranstaltungen für Gerhart-Hauptmann-Realschule
REFRESH-INTERVAL;VALUE=DURATION:PT1H
X-Robots-Tag:noindex
X-PUBLISHED-TTL:PT1H
BEGIN:VTIMEZONE
TZID:Europe/Berlin
BEGIN:DAYLIGHT
TZOFFSETFROM:+0100
TZOFFSETTO:+0200
TZNAME:CEST
DTSTART:20180325T010000
END:DAYLIGHT
BEGIN:STANDARD
TZOFFSETFROM:+0200
TZOFFSETTO:+0100
TZNAME:CET
DTSTART:20181028T010000
END:STANDARD
BEGIN:DAYLIGHT
TZOFFSETFROM:+0100
TZOFFSETTO:+0200
TZNAME:CEST
DTSTART:20190331T010000
END:DAYLIGHT
BEGIN:STANDARD
TZOFFSETFROM:+0200
TZOFFSETTO:+0100
TZNAME:CET
DTSTART:20191027T010000
END:STANDARD
BEGIN:DAYLIGHT
TZOFFSETFROM:+0100
TZOFFSETTO:+0200
TZNAME:CEST
DTSTART:20200329T010000
END:DAYLIGHT
BEGIN:STANDARD
TZOFFSETFROM:+0200
TZOFFSETTO:+0100
TZNAME:CET
DTSTART:20201025T010000
END:STANDARD
END:VTIMEZONE
BEGIN:VEVENT
DTSTART;TZID=Europe/Berlin:20191126T160000
DTEND;TZID=Europe/Berlin:20191126T190000
DTSTAMP:20260421T211032
CREATED:20191023T205132Z
LAST-MODIFIED:20191222T181956Z
UID:2204-1574784000-1574794800@www.ghr-leonberg.de
SUMMARY:Informationsabend für Eltern mit Kindern in der 4. Klasse
DESCRIPTION:An diesem Abend laden wir Sie recht herzlich zu einem Informationsabend ein für alle Eltern und Erziehungsberechtigten\, die unsere Schule näher kennenlernen und sich über Themen\, wie die Schulanmeldung\, informieren möchten. \n\nDer Informationsabend findet statt am Dienstag\, den 26.11.2019\, um 19 Uhr in der Aula der Gerhart-Hauptmann-Realschule.
URL:https://www.ghr-leonberg.de/termin/informationsabend-fuer-eltern-mit-kindern-in-der-4-klasse/
END:VEVENT
END:VCALENDAR