BEGIN:VCALENDAR
VERSION:2.0
PRODID:-//Gerhart-Hauptmann-Realschule - ECPv6.15.20//NONSGML v1.0//EN
CALSCALE:GREGORIAN
METHOD:PUBLISH
X-WR-CALNAME:Gerhart-Hauptmann-Realschule
X-ORIGINAL-URL:https://www.ghr-leonberg.de
X-WR-CALDESC:Veranstaltungen für Gerhart-Hauptmann-Realschule
REFRESH-INTERVAL;VALUE=DURATION:PT1H
X-Robots-Tag:noindex
X-PUBLISHED-TTL:PT1H
BEGIN:VTIMEZONE
TZID:Europe/Berlin
BEGIN:DAYLIGHT
TZOFFSETFROM:+0100
TZOFFSETTO:+0200
TZNAME:CEST
DTSTART:20180325T010000
END:DAYLIGHT
BEGIN:STANDARD
TZOFFSETFROM:+0200
TZOFFSETTO:+0100
TZNAME:CET
DTSTART:20181028T010000
END:STANDARD
BEGIN:DAYLIGHT
TZOFFSETFROM:+0100
TZOFFSETTO:+0200
TZNAME:CEST
DTSTART:20190331T010000
END:DAYLIGHT
BEGIN:STANDARD
TZOFFSETFROM:+0200
TZOFFSETTO:+0100
TZNAME:CET
DTSTART:20191027T010000
END:STANDARD
BEGIN:DAYLIGHT
TZOFFSETFROM:+0100
TZOFFSETTO:+0200
TZNAME:CEST
DTSTART:20200329T010000
END:DAYLIGHT
BEGIN:STANDARD
TZOFFSETFROM:+0200
TZOFFSETTO:+0100
TZNAME:CET
DTSTART:20201025T010000
END:STANDARD
END:VTIMEZONE
BEGIN:VEVENT
DTSTART;VALUE=DATE:20191203
DTEND;VALUE=DATE:20191206
DTSTAMP:20260421T201811
CREATED:20191102T214857Z
LAST-MODIFIED:20191222T181947Z
UID:2402-1575331200-1575590399@www.ghr-leonberg.de
SUMMARY:M+E-Infotruck
DESCRIPTION:Am 3. bis zum 5. Dezember 2019 lädt der M+E-Infotruck zur großen Entdeckungsreise der Metall- und Elektroindustrie auf unserem Schulhof ein. Auf zwei Etagen bietet er anschauliche Experimentierstationen\, an denen die Faszination Technik greifbar und erlebbar wird. Begleitet werden alle Exponate durch interaktive Aufgabenstellungen und Hintergrundinfos auf Tablets. Im ganzen Info-Truck sorgen modernste Multimedia-Anwendungen für eine zielgruppengerechte Ansprache.
URL:https://www.ghr-leonberg.de/termin/me-infotruck/
END:VEVENT
END:VCALENDAR