BEGIN:VCALENDAR
VERSION:2.0
PRODID:-//Gerhart-Hauptmann-Realschule - ECPv6.15.20//NONSGML v1.0//EN
CALSCALE:GREGORIAN
METHOD:PUBLISH
X-ORIGINAL-URL:https://www.ghr-leonberg.de
X-WR-CALDESC:Veranstaltungen für Gerhart-Hauptmann-Realschule
REFRESH-INTERVAL;VALUE=DURATION:PT1H
X-Robots-Tag:noindex
X-PUBLISHED-TTL:PT1H
BEGIN:VTIMEZONE
TZID:Europe/Berlin
BEGIN:DAYLIGHT
TZOFFSETFROM:+0100
TZOFFSETTO:+0200
TZNAME:CEST
DTSTART:20180325T010000
END:DAYLIGHT
BEGIN:STANDARD
TZOFFSETFROM:+0200
TZOFFSETTO:+0100
TZNAME:CET
DTSTART:20181028T010000
END:STANDARD
BEGIN:DAYLIGHT
TZOFFSETFROM:+0100
TZOFFSETTO:+0200
TZNAME:CEST
DTSTART:20190331T010000
END:DAYLIGHT
BEGIN:STANDARD
TZOFFSETFROM:+0200
TZOFFSETTO:+0100
TZNAME:CET
DTSTART:20191027T010000
END:STANDARD
BEGIN:DAYLIGHT
TZOFFSETFROM:+0100
TZOFFSETTO:+0200
TZNAME:CEST
DTSTART:20200329T010000
END:DAYLIGHT
BEGIN:STANDARD
TZOFFSETFROM:+0200
TZOFFSETTO:+0100
TZNAME:CET
DTSTART:20201025T010000
END:STANDARD
END:VTIMEZONE
BEGIN:VEVENT
DTSTART;TZID=Europe/Berlin:20191206T074500
DTEND;TZID=Europe/Berlin:20191206T091500
DTSTAMP:20260421T210819
CREATED:20191102T215504Z
LAST-MODIFIED:20191222T181936Z
UID:2406-1575618300-1575623700@www.ghr-leonberg.de
SUMMARY:Berufsberatung Klasse 9b
DESCRIPTION:Auch dieses Schuljahr haben die Schülerinnen und Schüler die Möglichkeit sich umfassend über verschiedene Berufsfelder sowie über die Möglichkeiten\, die weiterführende Schulen bieten\, zu informieren. Die Berufsberatung erfolgt durch Frau Oxfart und Herr Lupp von der Bundesagentur für Arbeit.
URL:https://www.ghr-leonberg.de/termin/berufsberatung-klasse-9b/
END:VEVENT
BEGIN:VEVENT
DTSTART;TZID=Europe/Berlin:20191206T093000
DTEND;TZID=Europe/Berlin:20191206T110000
DTSTAMP:20260421T210819
CREATED:20191102T215400Z
LAST-MODIFIED:20191222T181932Z
UID:2404-1575624600-1575630000@www.ghr-leonberg.de
SUMMARY:Berufsberatung Klasse 9a
DESCRIPTION:Auch dieses Schuljahr haben die Schülerinnen und Schüler die Möglichkeit sich umfassend über verschiedene Berufsfelder sowie über die Möglichkeiten\, die weiterführende Schulen bieten\, zu informieren. Die Berufsberatung erfolgt durch Frau Oxfart und Herr Lupp von der Bundesagentur für Arbeit.
URL:https://www.ghr-leonberg.de/termin/berufsberatung-klasse-9a/
END:VEVENT
END:VCALENDAR