BEGIN:VCALENDAR
VERSION:2.0
PRODID:-//Gerhart-Hauptmann-Realschule - ECPv6.15.20//NONSGML v1.0//EN
CALSCALE:GREGORIAN
METHOD:PUBLISH
X-ORIGINAL-URL:https://www.ghr-leonberg.de
X-WR-CALDESC:Veranstaltungen für Gerhart-Hauptmann-Realschule
REFRESH-INTERVAL;VALUE=DURATION:PT1H
X-Robots-Tag:noindex
X-PUBLISHED-TTL:PT1H
BEGIN:VTIMEZONE
TZID:Europe/Berlin
BEGIN:DAYLIGHT
TZOFFSETFROM:+0100
TZOFFSETTO:+0200
TZNAME:CEST
DTSTART:20180325T010000
END:DAYLIGHT
BEGIN:STANDARD
TZOFFSETFROM:+0200
TZOFFSETTO:+0100
TZNAME:CET
DTSTART:20181028T010000
END:STANDARD
BEGIN:DAYLIGHT
TZOFFSETFROM:+0100
TZOFFSETTO:+0200
TZNAME:CEST
DTSTART:20190331T010000
END:DAYLIGHT
BEGIN:STANDARD
TZOFFSETFROM:+0200
TZOFFSETTO:+0100
TZNAME:CET
DTSTART:20191027T010000
END:STANDARD
BEGIN:DAYLIGHT
TZOFFSETFROM:+0100
TZOFFSETTO:+0200
TZNAME:CEST
DTSTART:20200329T010000
END:DAYLIGHT
BEGIN:STANDARD
TZOFFSETFROM:+0200
TZOFFSETTO:+0100
TZNAME:CET
DTSTART:20201025T010000
END:STANDARD
END:VTIMEZONE
BEGIN:VEVENT
DTSTART;TZID=Europe/Berlin:20191209T074500
DTEND;TZID=Europe/Berlin:20191209T091500
DTSTAMP:20260421T203946
CREATED:20191102T215554Z
LAST-MODIFIED:20191222T181928Z
UID:2408-1575877500-1575882900@www.ghr-leonberg.de
SUMMARY:Berufsberatung Klasse 9c
DESCRIPTION:Auch dieses Schuljahr haben die Schülerinnen und Schüler die Möglichkeit sich umfassend über verschiedene Berufsfelder sowie über die Möglichkeiten\, die weiterführende Schulen bieten\, zu informieren. Die Berufsberatung erfolgt durch Frau Oxfart und Herr Lupp von der Bundesagentur für Arbeit.
URL:https://www.ghr-leonberg.de/termin/berufsberatung-klasse-9c/
END:VEVENT
BEGIN:VEVENT
DTSTART;TZID=Europe/Berlin:20191209T091500
DTEND;TZID=Europe/Berlin:20191209T130000
DTSTAMP:20260421T203946
CREATED:20191102T220004Z
LAST-MODIFIED:20191222T181924Z
UID:2411-1575882900-1575896400@www.ghr-leonberg.de
SUMMARY:Berufsberatung Klasse 10
DESCRIPTION:Auch dieses Schuljahr haben die Schülerinnen und Schüler die Möglichkeit sich umfassend über verschiedene Berufsfelder sowie über die Möglichkeiten\, die weiterführende Schulen bieten\, zu informieren. Die Berufsberatung erfolgt durch Frau Oxfart und Herr Lupp von der Bundesagentur für Arbeit.
URL:https://www.ghr-leonberg.de/termin/berufsberatung-klasse-10/
END:VEVENT
END:VCALENDAR