BEGIN:VCALENDAR
VERSION:2.0
PRODID:-//Gerhart-Hauptmann-Realschule - ECPv6.15.20//NONSGML v1.0//EN
CALSCALE:GREGORIAN
METHOD:PUBLISH
X-WR-CALNAME:Gerhart-Hauptmann-Realschule
X-ORIGINAL-URL:https://www.ghr-leonberg.de
X-WR-CALDESC:Veranstaltungen für Gerhart-Hauptmann-Realschule
REFRESH-INTERVAL;VALUE=DURATION:PT1H
X-Robots-Tag:noindex
X-PUBLISHED-TTL:PT1H
BEGIN:VTIMEZONE
TZID:Europe/Berlin
BEGIN:DAYLIGHT
TZOFFSETFROM:+0100
TZOFFSETTO:+0200
TZNAME:CEST
DTSTART:20190331T010000
END:DAYLIGHT
BEGIN:STANDARD
TZOFFSETFROM:+0200
TZOFFSETTO:+0100
TZNAME:CET
DTSTART:20191027T010000
END:STANDARD
BEGIN:DAYLIGHT
TZOFFSETFROM:+0100
TZOFFSETTO:+0200
TZNAME:CEST
DTSTART:20200329T010000
END:DAYLIGHT
BEGIN:STANDARD
TZOFFSETFROM:+0200
TZOFFSETTO:+0100
TZNAME:CET
DTSTART:20201025T010000
END:STANDARD
BEGIN:DAYLIGHT
TZOFFSETFROM:+0100
TZOFFSETTO:+0200
TZNAME:CEST
DTSTART:20210328T010000
END:DAYLIGHT
BEGIN:STANDARD
TZOFFSETFROM:+0200
TZOFFSETTO:+0100
TZNAME:CET
DTSTART:20211031T010000
END:STANDARD
END:VTIMEZONE
BEGIN:VEVENT
DTSTART;TZID=Europe/Berlin:20200214T150000
DTEND;TZID=Europe/Berlin:20200214T180000
DTSTAMP:20260421T114929
CREATED:20200211T141721Z
LAST-MODIFIED:20200211T141900Z
UID:2950-1581692400-1581703200@www.ghr-leonberg.de
SUMMARY:Elternsprechtag
DESCRIPTION:Liebe Eltern\, \n\n\n\nhiermit laden wir Sie herzlich zu unserem diesjährigen Elternsprechtag am Freitag\, den 14.02.2020 von 15:00 bis 18:00 Uhr ein. \n\n\n\nFragen\, die im Zusammenhang mit der Halbjahresinformation/mit dem Halbjahreszeugnis stehen\, sowie weitere Themen können kurz und prägnant (im 10-Minuten-Rhythmus) angesprochen werden. 
URL:https://www.ghr-leonberg.de/termin/elternsprechtag/
END:VEVENT
END:VCALENDAR