BEGIN:VCALENDAR
VERSION:2.0
PRODID:-//Gerhart-Hauptmann-Realschule - ECPv6.15.20//NONSGML v1.0//EN
CALSCALE:GREGORIAN
METHOD:PUBLISH
X-ORIGINAL-URL:https://www.ghr-leonberg.de
X-WR-CALDESC:Veranstaltungen für Gerhart-Hauptmann-Realschule
REFRESH-INTERVAL;VALUE=DURATION:PT1H
X-Robots-Tag:noindex
X-PUBLISHED-TTL:PT1H
BEGIN:VTIMEZONE
TZID:Europe/Berlin
BEGIN:DAYLIGHT
TZOFFSETFROM:+0100
TZOFFSETTO:+0200
TZNAME:CEST
DTSTART:20190331T010000
END:DAYLIGHT
BEGIN:STANDARD
TZOFFSETFROM:+0200
TZOFFSETTO:+0100
TZNAME:CET
DTSTART:20191027T010000
END:STANDARD
BEGIN:DAYLIGHT
TZOFFSETFROM:+0100
TZOFFSETTO:+0200
TZNAME:CEST
DTSTART:20200329T010000
END:DAYLIGHT
BEGIN:STANDARD
TZOFFSETFROM:+0200
TZOFFSETTO:+0100
TZNAME:CET
DTSTART:20201025T010000
END:STANDARD
BEGIN:DAYLIGHT
TZOFFSETFROM:+0100
TZOFFSETTO:+0200
TZNAME:CEST
DTSTART:20210328T010000
END:DAYLIGHT
BEGIN:STANDARD
TZOFFSETFROM:+0200
TZOFFSETTO:+0100
TZNAME:CET
DTSTART:20211031T010000
END:STANDARD
END:VTIMEZONE
BEGIN:VEVENT
DTSTART;TZID=Europe/Berlin:20200218T000000
DTEND;TZID=Europe/Berlin:20200218T235900
DTSTAMP:20260421T115603
CREATED:20200109T201841Z
LAST-MODIFIED:20200109T204041Z
UID:2796-1581984000-1582070340@www.ghr-leonberg.de
SUMMARY:Wintersporttag
DESCRIPTION:Auch in diesem Jahr organisiert die GHR am 18. Februar 2020 wieder einen Wintersporttag!Folgende Informationen sind jetzt noch wichtig:Es gibt drei Angebote\, von denen ein Angebot ausgesucht werden darf. \n\n\n\nA.) Schlittschuhlaufen auf der WaldauB.) Schwimmen im FildoradoC.) Trampolinspringen in der Sprungbude Bad Cannstatt \n\n\n\nWir freuen uns auf einen möglichst bewegten Schultag! \n\n\n\nEuer WintersporttagteamFrau Ak\, Herr Klingler und Herr Coelho
URL:https://www.ghr-leonberg.de/termin/wintersporttag/
END:VEVENT
END:VCALENDAR