BEGIN:VCALENDAR
VERSION:2.0
PRODID:-//Gerhart-Hauptmann-Realschule - ECPv6.15.20//NONSGML v1.0//EN
CALSCALE:GREGORIAN
METHOD:PUBLISH
X-ORIGINAL-URL:https://www.ghr-leonberg.de
X-WR-CALDESC:Veranstaltungen für Gerhart-Hauptmann-Realschule
REFRESH-INTERVAL;VALUE=DURATION:PT1H
X-Robots-Tag:noindex
X-PUBLISHED-TTL:PT1H
BEGIN:VTIMEZONE
TZID:Europe/Berlin
BEGIN:DAYLIGHT
TZOFFSETFROM:+0100
TZOFFSETTO:+0200
TZNAME:CEST
DTSTART:20190331T010000
END:DAYLIGHT
BEGIN:STANDARD
TZOFFSETFROM:+0200
TZOFFSETTO:+0100
TZNAME:CET
DTSTART:20191027T010000
END:STANDARD
BEGIN:DAYLIGHT
TZOFFSETFROM:+0100
TZOFFSETTO:+0200
TZNAME:CEST
DTSTART:20200329T010000
END:DAYLIGHT
BEGIN:STANDARD
TZOFFSETFROM:+0200
TZOFFSETTO:+0100
TZNAME:CET
DTSTART:20201025T010000
END:STANDARD
BEGIN:DAYLIGHT
TZOFFSETFROM:+0100
TZOFFSETTO:+0200
TZNAME:CEST
DTSTART:20210328T010000
END:DAYLIGHT
BEGIN:STANDARD
TZOFFSETFROM:+0200
TZOFFSETTO:+0100
TZNAME:CET
DTSTART:20211031T010000
END:STANDARD
END:VTIMEZONE
BEGIN:VEVENT
DTSTART;TZID=Europe/Berlin:20200311T000000
DTEND;TZID=Europe/Berlin:20200311T235900
DTSTAMP:20260421T080746
CREATED:20190730T091539Z
LAST-MODIFIED:20200109T204111Z
UID:2037-1583884800-1583971140@www.ghr-leonberg.de
SUMMARY:Vera 8 Deutsch
DESCRIPTION:
URL:https://www.ghr-leonberg.de/termin/vera-8-deutsch/
END:VEVENT
BEGIN:VEVENT
DTSTART;TZID=Europe/Berlin:20200311T080000
DTEND;TZID=Europe/Berlin:20200312T160000
DTSTAMP:20260421T080746
CREATED:20190730T090522Z
LAST-MODIFIED:20200223T132650Z
UID:2015-1583913600-1584028800@www.ghr-leonberg.de
SUMMARY:Anmeldung weiterführende Schulen
DESCRIPTION:Liebe Eltern und Erziehungsberechtigten\,  \n\n\n\nSie können am 11.03.2020 + 12.03.2020 Ihr Kind bei uns im Sekretariat anmelden. \n\n\n\n\n\n\n\nAnmeldezeiten:11.03.2020                8.00 – 12.00 Uhr uns 14.00 – 18.00 Uhr12.03.2020                8.00 – 12.00 Uhr uns 14.00 – 16.00 Uhr \n\n\n\nDie Reihenfolge der Anmeldungen entscheidet nicht über die Aufnahme! \n\n\n\n\n\n\n\nSie können das „Anmeldeformular“ bereits herunterladen. Dieses Formular können Sie freiwillig und unverbindlich ausfüllen und dann in unserem Sekretariat abgeben. Die Anmeldedaten Ihrer Kinder können wir so bereits aufnehmen und der Anmeldevorgang am 11. + 12.03.2020 kann zügiger ohne lange Wartezeiten durchgeführt werden. Dieses „Anmeldeformular“ ersetzt nicht die persönliche Anmeldung am 11.03.2020 und 12.03.2020. \n\n\n\nDownload des Anmeldeformulars hier \n\n\n\n\n\n\n\nUm ihr Kind anzumelden\, benötigen Sie:1.) Ein Identitätsnachweis des Kindes (z.B. Personalausweis\, Kinderreisepass\, Geburtsurkunde)2.) Die Bestätigung der Grundschule über den Schulbesuch (Blatt 4 der Grundschulempfehlung)3.) Die Bestätigung der Grundschule über ein Informations- und Beratungsgespräch (Blatt 5 der Grundschulempfehlung)4.) Grundschulempfehlung für die weiterführende Schule (Blatt 7 der Grundschulempfehlung) \n\n\n\n\n\n\n\nDie Aufnahmebestätigung erhalten Sie dann per Post nach Beendigung des Aufnahmeverfahrens.
URL:https://www.ghr-leonberg.de/termin/anmeldung-weiterfuehrende-schulen/
END:VEVENT
END:VCALENDAR