BEGIN:VCALENDAR
VERSION:2.0
PRODID:-//Gerhart-Hauptmann-Realschule - ECPv6.15.20//NONSGML v1.0//EN
CALSCALE:GREGORIAN
METHOD:PUBLISH
X-WR-CALNAME:Gerhart-Hauptmann-Realschule
X-ORIGINAL-URL:https://www.ghr-leonberg.de
X-WR-CALDESC:Veranstaltungen für Gerhart-Hauptmann-Realschule
REFRESH-INTERVAL;VALUE=DURATION:PT1H
X-Robots-Tag:noindex
X-PUBLISHED-TTL:PT1H
BEGIN:VTIMEZONE
TZID:Europe/Berlin
BEGIN:DAYLIGHT
TZOFFSETFROM:+0100
TZOFFSETTO:+0200
TZNAME:CEST
DTSTART:20190331T010000
END:DAYLIGHT
BEGIN:STANDARD
TZOFFSETFROM:+0200
TZOFFSETTO:+0100
TZNAME:CET
DTSTART:20191027T010000
END:STANDARD
BEGIN:DAYLIGHT
TZOFFSETFROM:+0100
TZOFFSETTO:+0200
TZNAME:CEST
DTSTART:20200329T010000
END:DAYLIGHT
BEGIN:STANDARD
TZOFFSETFROM:+0200
TZOFFSETTO:+0100
TZNAME:CET
DTSTART:20201025T010000
END:STANDARD
BEGIN:DAYLIGHT
TZOFFSETFROM:+0100
TZOFFSETTO:+0200
TZNAME:CEST
DTSTART:20210328T010000
END:DAYLIGHT
BEGIN:STANDARD
TZOFFSETFROM:+0200
TZOFFSETTO:+0100
TZNAME:CET
DTSTART:20211031T010000
END:STANDARD
END:VTIMEZONE
BEGIN:VEVENT
DTSTART;TZID=Europe/Berlin:20200623T020000
DTEND;TZID=Europe/Berlin:20200624T015959
DTSTAMP:20260420T170058
CREATED:20200504T202151Z
LAST-MODIFIED:20200504T203847Z
UID:3322-1592877600-1592963999@www.ghr-leonberg.de
SUMMARY:Französisch Realschulabschluss-Prüfung Kl.10
DESCRIPTION:
URL:https://www.ghr-leonberg.de/termin/franzoesisch-realschulabschluss-pruefung-kl-10/
END:VEVENT
BEGIN:VEVENT
DTSTART;TZID=Europe/Berlin:20200623T020000
DTEND;TZID=Europe/Berlin:20200624T015959
DTSTAMP:20260420T170058
CREATED:20200504T203249Z
LAST-MODIFIED:20200504T203828Z
UID:3347-1592877600-1592963999@www.ghr-leonberg.de
SUMMARY:Nachtermin (1) Französisch Realschulabschluss-Prüfung
DESCRIPTION:
URL:https://www.ghr-leonberg.de/termin/nachtermin-1-franzoesisch-realschulabschluss-pruefung/
END:VEVENT
END:VCALENDAR