BEGIN:VCALENDAR
VERSION:2.0
PRODID:-//Gerhart-Hauptmann-Realschule - ECPv6.15.20//NONSGML v1.0//EN
CALSCALE:GREGORIAN
METHOD:PUBLISH
X-ORIGINAL-URL:https://www.ghr-leonberg.de
X-WR-CALDESC:Veranstaltungen für Gerhart-Hauptmann-Realschule
REFRESH-INTERVAL;VALUE=DURATION:PT1H
X-Robots-Tag:noindex
X-PUBLISHED-TTL:PT1H
BEGIN:VTIMEZONE
TZID:Europe/Berlin
BEGIN:DAYLIGHT
TZOFFSETFROM:+0100
TZOFFSETTO:+0200
TZNAME:CEST
DTSTART:20210328T010000
END:DAYLIGHT
BEGIN:STANDARD
TZOFFSETFROM:+0200
TZOFFSETTO:+0100
TZNAME:CET
DTSTART:20211031T010000
END:STANDARD
BEGIN:DAYLIGHT
TZOFFSETFROM:+0100
TZOFFSETTO:+0200
TZNAME:CEST
DTSTART:20220327T010000
END:DAYLIGHT
BEGIN:STANDARD
TZOFFSETFROM:+0200
TZOFFSETTO:+0100
TZNAME:CET
DTSTART:20221030T010000
END:STANDARD
BEGIN:DAYLIGHT
TZOFFSETFROM:+0100
TZOFFSETTO:+0200
TZNAME:CEST
DTSTART:20230326T010000
END:DAYLIGHT
BEGIN:STANDARD
TZOFFSETFROM:+0200
TZOFFSETTO:+0100
TZNAME:CET
DTSTART:20231029T010000
END:STANDARD
END:VTIMEZONE
BEGIN:VEVENT
DTSTART;TZID=Europe/Berlin:20220926T020000
DTEND;TZID=Europe/Berlin:20220927T015959
DTSTAMP:20260419T193433
CREATED:20220920T105620Z
LAST-MODIFIED:20220920T105621Z
UID:5534-1664157600-1664243999@www.ghr-leonberg.de
SUMMARY:Beginn Ganztagesangebote
DESCRIPTION:
URL:https://www.ghr-leonberg.de/termin/beginn-ganztagesangebote/
END:VEVENT
BEGIN:VEVENT
DTSTART;TZID=Europe/Berlin:20220926T020000
DTEND;TZID=Europe/Berlin:20220929T015959
DTSTAMP:20260419T193433
CREATED:20220920T105937Z
LAST-MODIFIED:20220920T105938Z
UID:5542-1664157600-1664416799@www.ghr-leonberg.de
SUMMARY:Schullandheim Kl.5a
DESCRIPTION:
URL:https://www.ghr-leonberg.de/termin/schullandheim-kl-5a/
END:VEVENT
BEGIN:VEVENT
DTSTART;TZID=Europe/Berlin:20220927T203000
DTEND;TZID=Europe/Berlin:20220927T220000
DTSTAMP:20260419T193433
CREATED:20220920T105754Z
LAST-MODIFIED:20220920T105754Z
UID:5538-1664310600-1664316000@www.ghr-leonberg.de
SUMMARY:Elternabende Kl.8-10
DESCRIPTION:
URL:https://www.ghr-leonberg.de/termin/elternabende-kl-8-10/
END:VEVENT
BEGIN:VEVENT
DTSTART;TZID=Europe/Berlin:20220927T203000
DTEND;TZID=Europe/Berlin:20220927T220000
DTSTAMP:20260419T193433
CREATED:20220920T105851Z
LAST-MODIFIED:20220920T105852Z
UID:5540-1664310600-1664316000@www.ghr-leonberg.de
SUMMARY:Elternabend (Kinder auf der Ukraine)
DESCRIPTION:
URL:https://www.ghr-leonberg.de/termin/elternabend-kinder-auf-der-ukraine/
END:VEVENT
END:VCALENDAR