BEGIN:VCALENDAR
VERSION:2.0
PRODID:-//Gerhart-Hauptmann-Realschule - ECPv6.15.20//NONSGML v1.0//EN
CALSCALE:GREGORIAN
METHOD:PUBLISH
X-ORIGINAL-URL:https://www.ghr-leonberg.de
X-WR-CALDESC:Veranstaltungen für Gerhart-Hauptmann-Realschule
REFRESH-INTERVAL;VALUE=DURATION:PT1H
X-Robots-Tag:noindex
X-PUBLISHED-TTL:PT1H
BEGIN:VTIMEZONE
TZID:Europe/Berlin
BEGIN:DAYLIGHT
TZOFFSETFROM:+0100
TZOFFSETTO:+0200
TZNAME:CEST
DTSTART:20210328T010000
END:DAYLIGHT
BEGIN:STANDARD
TZOFFSETFROM:+0200
TZOFFSETTO:+0100
TZNAME:CET
DTSTART:20211031T010000
END:STANDARD
BEGIN:DAYLIGHT
TZOFFSETFROM:+0100
TZOFFSETTO:+0200
TZNAME:CEST
DTSTART:20220327T010000
END:DAYLIGHT
BEGIN:STANDARD
TZOFFSETFROM:+0200
TZOFFSETTO:+0100
TZNAME:CET
DTSTART:20221030T010000
END:STANDARD
BEGIN:DAYLIGHT
TZOFFSETFROM:+0100
TZOFFSETTO:+0200
TZNAME:CEST
DTSTART:20230326T010000
END:DAYLIGHT
BEGIN:STANDARD
TZOFFSETFROM:+0200
TZOFFSETTO:+0100
TZNAME:CET
DTSTART:20231029T010000
END:STANDARD
END:VTIMEZONE
BEGIN:VEVENT
DTSTART;TZID=Europe/Berlin:20221107T010000
DTEND;TZID=Europe/Berlin:20221112T005959
DTSTAMP:20260420T064344
CREATED:20220920T110352Z
LAST-MODIFIED:20220920T110353Z
UID:5552-1667782800-1668214799@www.ghr-leonberg.de
SUMMARY:Themenwoche
DESCRIPTION:
URL:https://www.ghr-leonberg.de/termin/themenwoche-3/
END:VEVENT
BEGIN:VEVENT
DTSTART;TZID=Europe/Berlin:20221107T010000
DTEND;TZID=Europe/Berlin:20221112T005959
DTSTAMP:20260420T064344
CREATED:20220920T110434Z
LAST-MODIFIED:20220920T110434Z
UID:5554-1667782800-1668214799@www.ghr-leonberg.de
SUMMARY:BORS / BOA-Praktikum (Kl.8c\, 9a\, 9b)
DESCRIPTION:
URL:https://www.ghr-leonberg.de/termin/bors-boa-praktikum-kl-8c-9a-9b/
END:VEVENT
END:VCALENDAR