BEGIN:VCALENDAR
VERSION:2.0
PRODID:-//Gerhart-Hauptmann-Realschule - ECPv6.15.20//NONSGML v1.0//EN
CALSCALE:GREGORIAN
METHOD:PUBLISH
X-WR-CALNAME:Gerhart-Hauptmann-Realschule
X-ORIGINAL-URL:https://www.ghr-leonberg.de
X-WR-CALDESC:Veranstaltungen für Gerhart-Hauptmann-Realschule
REFRESH-INTERVAL;VALUE=DURATION:PT1H
X-Robots-Tag:noindex
X-PUBLISHED-TTL:PT1H
BEGIN:VTIMEZONE
TZID:Europe/Berlin
BEGIN:DAYLIGHT
TZOFFSETFROM:+0100
TZOFFSETTO:+0200
TZNAME:CEST
DTSTART:20230326T010000
END:DAYLIGHT
BEGIN:STANDARD
TZOFFSETFROM:+0200
TZOFFSETTO:+0100
TZNAME:CET
DTSTART:20231029T010000
END:STANDARD
BEGIN:DAYLIGHT
TZOFFSETFROM:+0100
TZOFFSETTO:+0200
TZNAME:CEST
DTSTART:20240331T010000
END:DAYLIGHT
BEGIN:STANDARD
TZOFFSETFROM:+0200
TZOFFSETTO:+0100
TZNAME:CET
DTSTART:20241027T010000
END:STANDARD
BEGIN:DAYLIGHT
TZOFFSETFROM:+0100
TZOFFSETTO:+0200
TZNAME:CEST
DTSTART:20250330T010000
END:DAYLIGHT
BEGIN:STANDARD
TZOFFSETFROM:+0200
TZOFFSETTO:+0100
TZNAME:CET
DTSTART:20251026T010000
END:STANDARD
END:VTIMEZONE
BEGIN:VEVENT
DTSTART;TZID=Europe/Berlin:20240226T000000
DTEND;TZID=Europe/Berlin:20240304T235959
DTSTAMP:20260423T144646
CREATED:20230906T090227Z
LAST-MODIFIED:20230906T090231Z
UID:6351-1708905600-1709596799@www.ghr-leonberg.de
SUMMARY:Kommunikationsprüfung Kl.9 (HS)\, Kl.10
DESCRIPTION:
URL:https://www.ghr-leonberg.de/termin/kommunikationspruefung-kl-9-hs-kl-10/
END:VEVENT
BEGIN:VEVENT
DTSTART;TZID=Europe/Berlin:20240301T000000
DTEND;TZID=Europe/Berlin:20240312T235959
DTSTAMP:20260423T144646
CREATED:20230906T090355Z
LAST-MODIFIED:20230906T090400Z
UID:6355-1709251200-1710287999@www.ghr-leonberg.de
SUMMARY:Testzeitraum VERA 8
DESCRIPTION:
URL:https://www.ghr-leonberg.de/termin/testzeitraum-vera-8-2/
END:VEVENT
BEGIN:VEVENT
DTSTART;TZID=Europe/Berlin:20240304T000000
DTEND;TZID=Europe/Berlin:20240304T235959
DTSTAMP:20260423T144646
CREATED:20230906T090437Z
LAST-MODIFIED:20230906T090442Z
UID:6357-1709510400-1709596799@www.ghr-leonberg.de
SUMMARY:Elternabend Kl.5-7
DESCRIPTION:
URL:https://www.ghr-leonberg.de/termin/elternabend-kl-5-7/
END:VEVENT
BEGIN:VEVENT
DTSTART;TZID=Europe/Berlin:20240304T000000
DTEND;TZID=Europe/Berlin:20240308T235959
DTSTAMP:20260423T144646
CREATED:20230906T090534Z
LAST-MODIFIED:20231123T151816Z
UID:6359-1709510400-1709942399@www.ghr-leonberg.de
SUMMARY:BO(9b)- und BOA(8c)-Praktikum
DESCRIPTION:
URL:https://www.ghr-leonberg.de/termin/bo9b-und-boa8c-praktikum/
END:VEVENT
END:VCALENDAR