BEGIN:VCALENDAR
VERSION:2.0
PRODID:-//Gerhart-Hauptmann-Realschule - ECPv6.15.20//NONSGML v1.0//EN
CALSCALE:GREGORIAN
METHOD:PUBLISH
X-ORIGINAL-URL:https://www.ghr-leonberg.de
X-WR-CALDESC:Veranstaltungen für Gerhart-Hauptmann-Realschule
REFRESH-INTERVAL;VALUE=DURATION:PT1H
X-Robots-Tag:noindex
X-PUBLISHED-TTL:PT1H
BEGIN:VTIMEZONE
TZID:Europe/Berlin
BEGIN:DAYLIGHT
TZOFFSETFROM:+0100
TZOFFSETTO:+0200
TZNAME:CEST
DTSTART:20230326T010000
END:DAYLIGHT
BEGIN:STANDARD
TZOFFSETFROM:+0200
TZOFFSETTO:+0100
TZNAME:CET
DTSTART:20231029T010000
END:STANDARD
BEGIN:DAYLIGHT
TZOFFSETFROM:+0100
TZOFFSETTO:+0200
TZNAME:CEST
DTSTART:20240331T010000
END:DAYLIGHT
BEGIN:STANDARD
TZOFFSETFROM:+0200
TZOFFSETTO:+0100
TZNAME:CET
DTSTART:20241027T010000
END:STANDARD
BEGIN:DAYLIGHT
TZOFFSETFROM:+0100
TZOFFSETTO:+0200
TZNAME:CEST
DTSTART:20250330T010000
END:DAYLIGHT
BEGIN:STANDARD
TZOFFSETFROM:+0200
TZOFFSETTO:+0100
TZNAME:CET
DTSTART:20251026T010000
END:STANDARD
END:VTIMEZONE
BEGIN:VEVENT
DTSTART;TZID=Europe/Berlin:20240909T000000
DTEND;TZID=Europe/Berlin:20240909T235959
DTSTAMP:20260424T074938
CREATED:20240726T081129Z
LAST-MODIFIED:20240726T084320Z
UID:7587-1725840000-1725926399@www.ghr-leonberg.de
SUMMARY:Schulbeginn für das Schuljahr 2024/25
DESCRIPTION:Liebe Schülerinnen und Schüler\,das neue Schuljahr beginnt wieder am Montag\, den 09.09.24 um 8:30 Uhr für die Klassen 6-10 und die VKL. In welchem Zimmer ihr Unterricht habt\, seht ihr wie immer im Foyer. Am Montag habt ihr Unterricht von der 2. bis zur 4. Stunde bei eurer Klassenlehrkraft\, danach folgt der Fachunterricht. Es findet noch kein Nachmittagsunterricht statt. Dieser startet erst ab Dienstag. Am Dienstag\, den 10.09.24 begrüßen wir unsere drei neuen 5. Klassen um 10:00 Uhr in der Aula. Wir freuen uns schon sehr auf euch.Der Ganztag beginnt am 23.9.24. Die Angebote hängen im Foyer aus.Eure Schulleitung
URL:https://www.ghr-leonberg.de/termin/schulbeginn-fuer-das-schuljahr-2024-25/
END:VEVENT
END:VCALENDAR