BEGIN:VCALENDAR
VERSION:2.0
PRODID:-//Gerhart-Hauptmann-Realschule - ECPv6.15.20//NONSGML v1.0//EN
CALSCALE:GREGORIAN
METHOD:PUBLISH
X-ORIGINAL-URL:https://www.ghr-leonberg.de
X-WR-CALDESC:Veranstaltungen für Gerhart-Hauptmann-Realschule
REFRESH-INTERVAL;VALUE=DURATION:PT1H
X-Robots-Tag:noindex
X-PUBLISHED-TTL:PT1H
BEGIN:VTIMEZONE
TZID:Europe/Berlin
BEGIN:DAYLIGHT
TZOFFSETFROM:+0100
TZOFFSETTO:+0200
TZNAME:CEST
DTSTART:20180325T010000
END:DAYLIGHT
BEGIN:STANDARD
TZOFFSETFROM:+0200
TZOFFSETTO:+0100
TZNAME:CET
DTSTART:20181028T010000
END:STANDARD
BEGIN:DAYLIGHT
TZOFFSETFROM:+0100
TZOFFSETTO:+0200
TZNAME:CEST
DTSTART:20190331T010000
END:DAYLIGHT
BEGIN:STANDARD
TZOFFSETFROM:+0200
TZOFFSETTO:+0100
TZNAME:CET
DTSTART:20191027T010000
END:STANDARD
BEGIN:DAYLIGHT
TZOFFSETFROM:+0100
TZOFFSETTO:+0200
TZNAME:CEST
DTSTART:20200329T010000
END:DAYLIGHT
BEGIN:STANDARD
TZOFFSETFROM:+0200
TZOFFSETTO:+0100
TZNAME:CET
DTSTART:20201025T010000
END:STANDARD
END:VTIMEZONE
BEGIN:VEVENT
DTSTART;VALUE=DATE:20190313
DTEND;VALUE=DATE:20190315
DTSTAMP:20260423T075039
CREATED:20190227T220538Z
LAST-MODIFIED:20190304T000233Z
UID:1327-1552435200-1552607999@www.ghr-leonberg.de
SUMMARY:Anmeldung für Klasse 5 im Schuljahr 2019/2020
DESCRIPTION:Liebe Eltern\, \ndie Anmeldung für die Klassenstufe 5 an der Gerhart-Hauptmann-Realschule kann zu folgenden Terminen im Sekretariat der GHR erfolgen: \n\nMittwoch\, den 13. März 2019 von 8.00 – 12.00 Uhr und 14.00 – 18 Uhr \nDonnerstag\, den 14. März 2019 von 8.00 Uhr – 12.00 Uhr und 14.00 – 15 Uhr.\n\nBei der Anmeldung müssen sowohl die Geburtsurkunde als auch die Anmeldeblätter 4 und 5 für die weiterführenden Schulen vorgelegt werden. \nDie Grundschulempfehlung\, Anmeldeblatt 7\, muss der weiterführenden Schule vorgelegt werden. \nDie Anmeldung muss von den Erziehungsberechtigten persönlichvorgenommen werden und darf nicht schriftlich erfolgen.
URL:https://www.ghr-leonberg.de/termin/anmeldung-fuer-klasse-5-im-schuljahr-2019-2020/
END:VEVENT
BEGIN:VEVENT
DTSTART;TZID=Europe/Berlin:20190319T180000
DTEND;TZID=Europe/Berlin:20190319T190000
DTSTAMP:20260423T075039
CREATED:20190303T234655Z
LAST-MODIFIED:20190303T235838Z
UID:1334-1553018400-1553022000@www.ghr-leonberg.de
SUMMARY:Informationsveranstaltung für Klasse 6
DESCRIPTION:Am Dienstag\, den 19.03.2019 findet ab 18.00 Uhr eine Informationsveranstaltung für die Eltern der Klasse 6 statt\, bei dem es um die Wahlpflichtfächer geht\, die ab Klasse 7 unterrichtet werden.
URL:https://www.ghr-leonberg.de/termin/informationsveranstaltung-fuer-klasse-6/
END:VEVENT
BEGIN:VEVENT
DTSTART;TZID=Europe/Berlin:20190321T140000
DTEND;TZID=Europe/Berlin:20190321T170000
DTSTAMP:20260423T075039
CREATED:20190303T234939Z
LAST-MODIFIED:20190303T235919Z
UID:1336-1553176800-1553187600@www.ghr-leonberg.de
SUMMARY:Zweiter FÜK-Beratungsnachmittag
DESCRIPTION:Liebe Schülerinnen und Schüler\, \nam Donnerstag\, den 21.03.19\, finden ab 14.00 Uhr die zweiten Beratungsgespräche zur FÜK-Prüfung statt. Der Zeit- und Raumplan wird wieder im Eingangsbereich der Schule ausgehängt.
URL:https://www.ghr-leonberg.de/termin/fuek-beratungsnachmittag/
END:VEVENT
END:VCALENDAR