BEGIN:VCALENDAR
VERSION:2.0
PRODID:-//Gerhart-Hauptmann-Realschule - ECPv6.15.20//NONSGML v1.0//EN
CALSCALE:GREGORIAN
METHOD:PUBLISH
X-ORIGINAL-URL:https://www.ghr-leonberg.de
X-WR-CALDESC:Veranstaltungen für Gerhart-Hauptmann-Realschule
REFRESH-INTERVAL;VALUE=DURATION:PT1H
X-Robots-Tag:noindex
X-PUBLISHED-TTL:PT1H
BEGIN:VTIMEZONE
TZID:Europe/Berlin
BEGIN:DAYLIGHT
TZOFFSETFROM:+0100
TZOFFSETTO:+0200
TZNAME:CEST
DTSTART:20180325T010000
END:DAYLIGHT
BEGIN:STANDARD
TZOFFSETFROM:+0200
TZOFFSETTO:+0100
TZNAME:CET
DTSTART:20181028T010000
END:STANDARD
BEGIN:DAYLIGHT
TZOFFSETFROM:+0100
TZOFFSETTO:+0200
TZNAME:CEST
DTSTART:20190331T010000
END:DAYLIGHT
BEGIN:STANDARD
TZOFFSETFROM:+0200
TZOFFSETTO:+0100
TZNAME:CET
DTSTART:20191027T010000
END:STANDARD
BEGIN:DAYLIGHT
TZOFFSETFROM:+0100
TZOFFSETTO:+0200
TZNAME:CEST
DTSTART:20200329T010000
END:DAYLIGHT
BEGIN:STANDARD
TZOFFSETFROM:+0200
TZOFFSETTO:+0100
TZNAME:CET
DTSTART:20201025T010000
END:STANDARD
END:VTIMEZONE
BEGIN:VEVENT
DTSTART;VALUE=DATE:20191104
DTEND;VALUE=DATE:20191109
DTSTAMP:20260421T211040
CREATED:20191023T204859Z
LAST-MODIFIED:20191222T182009Z
UID:2200-1572825600-1573257599@www.ghr-leonberg.de
SUMMARY:BORS- und BOA-Praktikum
DESCRIPTION:In dieser Woche finden für alle 9. Klassen das BORS Praktikum statt. Zur selben Zeit findet auch das BOA Praktikum der 8. Klassen statt.
URL:https://www.ghr-leonberg.de/termin/bors-und-boa-praktikum/
END:VEVENT
BEGIN:VEVENT
DTSTART;VALUE=DATE:20191104
DTEND;VALUE=DATE:20191109
DTSTAMP:20260421T211040
CREATED:20191023T204959Z
LAST-MODIFIED:20191222T182004Z
UID:2202-1572825600-1573257599@www.ghr-leonberg.de
SUMMARY:Eurokom Prüfungen
DESCRIPTION:In dieser Woche finden die Eurokom Prüfungen der 10. Klasse statt.
URL:https://www.ghr-leonberg.de/termin/eurokom-pruefungen/
END:VEVENT
BEGIN:VEVENT
DTSTART;TZID=Europe/Berlin:20191111T193000
DTEND;TZID=Europe/Berlin:20191111T193000
DTSTAMP:20260421T211040
CREATED:20190730T085935Z
LAST-MODIFIED:20191222T182000Z
UID:2003-1573500600-1573500600@www.ghr-leonberg.de
SUMMARY:Erste Elternbeiratssitzung
DESCRIPTION:
URL:https://www.ghr-leonberg.de/termin/erste-elternbeiratssitzung/
END:VEVENT
BEGIN:VEVENT
DTSTART;TZID=Europe/Berlin:20191126T160000
DTEND;TZID=Europe/Berlin:20191126T190000
DTSTAMP:20260421T211040
CREATED:20191023T205132Z
LAST-MODIFIED:20191222T181956Z
UID:2204-1574784000-1574794800@www.ghr-leonberg.de
SUMMARY:Informationsabend für Eltern mit Kindern in der 4. Klasse
DESCRIPTION:An diesem Abend laden wir Sie recht herzlich zu einem Informationsabend ein für alle Eltern und Erziehungsberechtigten\, die unsere Schule näher kennenlernen und sich über Themen\, wie die Schulanmeldung\, informieren möchten. \n\nDer Informationsabend findet statt am Dienstag\, den 26.11.2019\, um 19 Uhr in der Aula der Gerhart-Hauptmann-Realschule.
URL:https://www.ghr-leonberg.de/termin/informationsabend-fuer-eltern-mit-kindern-in-der-4-klasse/
END:VEVENT
BEGIN:VEVENT
DTSTART;TZID=Europe/Berlin:20191128T180000
DTEND;TZID=Europe/Berlin:20191128T180000
DTSTAMP:20260421T211040
CREATED:20190730T090021Z
LAST-MODIFIED:20191222T181952Z
UID:2005-1574964000-1574964000@www.ghr-leonberg.de
SUMMARY:Erste Schulkonferenz
DESCRIPTION:
URL:https://www.ghr-leonberg.de/termin/erste-schulkonferenz/
END:VEVENT
END:VCALENDAR