BEGIN:VCALENDAR
VERSION:2.0
PRODID:-//Gerhart-Hauptmann-Realschule - ECPv6.15.20//NONSGML v1.0//EN
CALSCALE:GREGORIAN
METHOD:PUBLISH
X-WR-CALNAME:Gerhart-Hauptmann-Realschule
X-ORIGINAL-URL:https://www.ghr-leonberg.de
X-WR-CALDESC:Veranstaltungen für Gerhart-Hauptmann-Realschule
REFRESH-INTERVAL;VALUE=DURATION:PT1H
X-Robots-Tag:noindex
X-PUBLISHED-TTL:PT1H
BEGIN:VTIMEZONE
TZID:Europe/Berlin
BEGIN:DAYLIGHT
TZOFFSETFROM:+0100
TZOFFSETTO:+0200
TZNAME:CEST
DTSTART:20190331T010000
END:DAYLIGHT
BEGIN:STANDARD
TZOFFSETFROM:+0200
TZOFFSETTO:+0100
TZNAME:CET
DTSTART:20191027T010000
END:STANDARD
BEGIN:DAYLIGHT
TZOFFSETFROM:+0100
TZOFFSETTO:+0200
TZNAME:CEST
DTSTART:20200329T010000
END:DAYLIGHT
BEGIN:STANDARD
TZOFFSETFROM:+0200
TZOFFSETTO:+0100
TZNAME:CET
DTSTART:20201025T010000
END:STANDARD
BEGIN:DAYLIGHT
TZOFFSETFROM:+0100
TZOFFSETTO:+0200
TZNAME:CEST
DTSTART:20210328T010000
END:DAYLIGHT
BEGIN:STANDARD
TZOFFSETFROM:+0200
TZOFFSETTO:+0100
TZNAME:CET
DTSTART:20211031T010000
END:STANDARD
END:VTIMEZONE
BEGIN:VEVENT
DTSTART;TZID=Europe/Berlin:20200520T000000
DTEND;TZID=Europe/Berlin:20200520T235959
DTSTAMP:20260420T171135
CREATED:20190730T090619Z
LAST-MODIFIED:20200504T203953Z
UID:2017-1589932800-1590019199@www.ghr-leonberg.de
SUMMARY:Deutsch Realschulabschluss-Prüfung Kl.10
DESCRIPTION:
URL:https://www.ghr-leonberg.de/termin/deutsch-abschlusspruefung-kl-10/
END:VEVENT
BEGIN:VEVENT
DTSTART;TZID=Europe/Berlin:20200525T000000
DTEND;TZID=Europe/Berlin:20200525T235959
DTSTAMP:20260420T171135
CREATED:20190730T090701Z
LAST-MODIFIED:20200504T203949Z
UID:2019-1590364800-1590451199@www.ghr-leonberg.de
SUMMARY:Mathematik Realschulabschluss-Prüfung Kl.10
DESCRIPTION:
URL:https://www.ghr-leonberg.de/termin/mathematik-abschlusspruefung-kl-10/
END:VEVENT
BEGIN:VEVENT
DTSTART;TZID=Europe/Berlin:20200525T140000
DTEND;TZID=Europe/Berlin:20200525T163000
DTSTAMP:20260420T171135
CREATED:20200515T112851Z
LAST-MODIFIED:20200515T113130Z
UID:3601-1590415200-1590424200@www.ghr-leonberg.de
SUMMARY:Webinar "Discover Industry" für Klasse 9
DESCRIPTION:In dem „Webinar“ geht es darum\, spannende Einblicke in verschiedene Industrie- und MINT-Berufe zu bekommen. „Discover Industry“ zeigt den jungen Leuten\, wie vielfältig diese Berufe sein können\, wie viel Abwechslung und welche Chancen die Industrie bietet und welche Rolle informationstechnische Kenntnisse dabei spielen. \n\n\n\nZu einem besonderen „Webinar“ lädt die GHR ihre Schülerinnen und Schüler der Klassenstufe 9 am 25.\, 26. und 27. Mai 2020 von 14 bis 16.30 Uhr ein.
URL:https://www.ghr-leonberg.de/termin/webinar-discover-industry-fuer-klasse-9/
END:VEVENT
BEGIN:VEVENT
DTSTART;TZID=Europe/Berlin:20200526T140000
DTEND;TZID=Europe/Berlin:20200526T163000
DTSTAMP:20260420T171135
CREATED:20200515T113309Z
LAST-MODIFIED:20200515T113310Z
UID:3604-1590501600-1590510600@www.ghr-leonberg.de
SUMMARY:Webinar "Discover Industry" für Klasse 9
DESCRIPTION:In dem „Webinar“ geht es darum\, spannende Einblicke in verschiedene Industrie- und MINT-Berufe zu bekommen. „Discover Industry“ zeigt den jungen Leuten\, wie vielfältig diese Berufe sein können\, wie viel Abwechslung und welche Chancen die Industrie bietet und welche Rolle informationstechnische Kenntnisse dabei spielen. \n\n\n\nZu einem besonderen „Webinar“ lädt die GHR ihre Schülerinnen und Schüler der Klassenstufe 9 am 25.\, 26. und 27. Mai 2020 von 14 bis 16.30 Uhr ein.
URL:https://www.ghr-leonberg.de/termin/webinar-discover-industry-fuer-klasse-9-2/
END:VEVENT
BEGIN:VEVENT
DTSTART;TZID=Europe/Berlin:20200527T000000
DTEND;TZID=Europe/Berlin:20200527T235959
DTSTAMP:20260420T171135
CREATED:20190730T090745Z
LAST-MODIFIED:20200504T203945Z
UID:2021-1590537600-1590623999@www.ghr-leonberg.de
SUMMARY:Englisch Realschulabschluss-Prüfung Kl.10
DESCRIPTION:
URL:https://www.ghr-leonberg.de/termin/englisch-abschlusspruefung-kl-10/
END:VEVENT
BEGIN:VEVENT
DTSTART;TZID=Europe/Berlin:20200527T140000
DTEND;TZID=Europe/Berlin:20200527T163000
DTSTAMP:20260420T171135
CREATED:20200515T113421Z
LAST-MODIFIED:20200515T113422Z
UID:3606-1590588000-1590597000@www.ghr-leonberg.de
SUMMARY:Webinar "Discover Industry" für Klasse 9
DESCRIPTION:In dem „Webinar“ geht es darum\, spannende Einblicke in verschiedene Industrie- und MINT-Berufe zu bekommen. „Discover Industry“ zeigt den jungen Leuten\, wie vielfältig diese Berufe sein können\, wie viel Abwechslung und welche Chancen die Industrie bietet und welche Rolle informationstechnische Kenntnisse dabei spielen. \n\n\n\nZu einem besonderen „Webinar“ lädt die GHR ihre Schülerinnen und Schüler der Klassenstufe 9 am 25.\, 26. und 27. Mai 2020 von 14 bis 16.30 Uhr ein.
URL:https://www.ghr-leonberg.de/termin/webinar-discover-industry-fuer-klasse-9-3/
END:VEVENT
END:VCALENDAR