BEGIN:VCALENDAR
VERSION:2.0
PRODID:-//Gerhart-Hauptmann-Realschule - ECPv6.15.20//NONSGML v1.0//EN
CALSCALE:GREGORIAN
METHOD:PUBLISH
X-WR-CALNAME:Gerhart-Hauptmann-Realschule
X-ORIGINAL-URL:https://www.ghr-leonberg.de
X-WR-CALDESC:Veranstaltungen für Gerhart-Hauptmann-Realschule
REFRESH-INTERVAL;VALUE=DURATION:PT1H
X-Robots-Tag:noindex
X-PUBLISHED-TTL:PT1H
BEGIN:VTIMEZONE
TZID:Europe/Berlin
BEGIN:DAYLIGHT
TZOFFSETFROM:+0100
TZOFFSETTO:+0200
TZNAME:CEST
DTSTART:20190331T010000
END:DAYLIGHT
BEGIN:STANDARD
TZOFFSETFROM:+0200
TZOFFSETTO:+0100
TZNAME:CET
DTSTART:20191027T010000
END:STANDARD
BEGIN:DAYLIGHT
TZOFFSETFROM:+0100
TZOFFSETTO:+0200
TZNAME:CEST
DTSTART:20200329T010000
END:DAYLIGHT
BEGIN:STANDARD
TZOFFSETFROM:+0200
TZOFFSETTO:+0100
TZNAME:CET
DTSTART:20201025T010000
END:STANDARD
BEGIN:DAYLIGHT
TZOFFSETFROM:+0100
TZOFFSETTO:+0200
TZNAME:CEST
DTSTART:20210328T010000
END:DAYLIGHT
BEGIN:STANDARD
TZOFFSETFROM:+0200
TZOFFSETTO:+0100
TZNAME:CET
DTSTART:20211031T010000
END:STANDARD
END:VTIMEZONE
BEGIN:VEVENT
DTSTART;TZID=Europe/Berlin:20200701T020000
DTEND;TZID=Europe/Berlin:20200702T015959
DTSTAMP:20260420T070700
CREATED:20200504T202531Z
LAST-MODIFIED:20200504T202759Z
UID:3324-1593568800-1593655199@www.ghr-leonberg.de
SUMMARY:Nachtermin (1) Deutsch Hauptschulabschluss-Prüfung
DESCRIPTION:
URL:https://www.ghr-leonberg.de/termin/nachtermin-deutsch-hauptschulabschluss-pruefung/
END:VEVENT
BEGIN:VEVENT
DTSTART;TZID=Europe/Berlin:20200703T020000
DTEND;TZID=Europe/Berlin:20200704T015959
DTSTAMP:20260420T070700
CREATED:20200504T202606Z
LAST-MODIFIED:20200629T105851Z
UID:3326-1593741600-1593827999@www.ghr-leonberg.de
SUMMARY:Nachtermin (1) Mathematik Hauptschulabschluss-Prüfung
DESCRIPTION:
URL:https://www.ghr-leonberg.de/termin/nachtermin-mathematik-hauptschulabschluss-pruefung/
END:VEVENT
BEGIN:VEVENT
DTSTART;TZID=Europe/Berlin:20200706T020000
DTEND;TZID=Europe/Berlin:20200707T015959
DTSTAMP:20260420T070700
CREATED:20200504T202635Z
LAST-MODIFIED:20200629T111643Z
UID:3328-1594000800-1594087199@www.ghr-leonberg.de
SUMMARY:Nachtermin (1) Englisch Hauptschulabschluss-Prüfung
DESCRIPTION:
URL:https://www.ghr-leonberg.de/termin/nachtermin-englisch-hauptschulabschluss-pruefung/
END:VEVENT
BEGIN:VEVENT
DTSTART;TZID=Europe/Berlin:20200720T020000
DTEND;TZID=Europe/Berlin:20200723T015959
DTSTAMP:20260420T070700
CREATED:20200504T202954Z
LAST-MODIFIED:20200707T173345Z
UID:3339-1595210400-1595469599@www.ghr-leonberg.de
SUMMARY:Mündlicher Prüfungszeitraum Hauptschulabschluss
DESCRIPTION:
URL:https://www.ghr-leonberg.de/termin/muendlicher-pruefungszeitraum-hauptschulabschluss/
END:VEVENT
BEGIN:VEVENT
DTSTART;TZID=Europe/Berlin:20200720T020000
DTEND;TZID=Europe/Berlin:20200723T015959
DTSTAMP:20260420T070700
CREATED:20200504T203640Z
LAST-MODIFIED:20200707T173405Z
UID:3357-1595210400-1595469599@www.ghr-leonberg.de
SUMMARY:Mündlicher Prüfungszeitraum Realschulabschluss-Prüfung
DESCRIPTION:
URL:https://www.ghr-leonberg.de/termin/muendlicher-pruefungszeitraum-realschulabschluss-pruefung/
END:VEVENT
END:VCALENDAR