BEGIN:VCALENDAR
VERSION:2.0
PRODID:-//Gerhart-Hauptmann-Realschule - ECPv6.15.20//NONSGML v1.0//EN
CALSCALE:GREGORIAN
METHOD:PUBLISH
X-WR-CALNAME:Gerhart-Hauptmann-Realschule
X-ORIGINAL-URL:https://www.ghr-leonberg.de
X-WR-CALDESC:Veranstaltungen für Gerhart-Hauptmann-Realschule
REFRESH-INTERVAL;VALUE=DURATION:PT1H
X-Robots-Tag:noindex
X-PUBLISHED-TTL:PT1H
BEGIN:VTIMEZONE
TZID:Europe/Berlin
BEGIN:DAYLIGHT
TZOFFSETFROM:+0100
TZOFFSETTO:+0200
TZNAME:CEST
DTSTART:20220327T010000
END:DAYLIGHT
BEGIN:STANDARD
TZOFFSETFROM:+0200
TZOFFSETTO:+0100
TZNAME:CET
DTSTART:20221030T010000
END:STANDARD
BEGIN:DAYLIGHT
TZOFFSETFROM:+0100
TZOFFSETTO:+0200
TZNAME:CEST
DTSTART:20230326T010000
END:DAYLIGHT
BEGIN:STANDARD
TZOFFSETFROM:+0200
TZOFFSETTO:+0100
TZNAME:CET
DTSTART:20231029T010000
END:STANDARD
BEGIN:DAYLIGHT
TZOFFSETFROM:+0100
TZOFFSETTO:+0200
TZNAME:CEST
DTSTART:20240331T010000
END:DAYLIGHT
BEGIN:STANDARD
TZOFFSETFROM:+0200
TZOFFSETTO:+0100
TZNAME:CET
DTSTART:20241027T010000
END:STANDARD
END:VTIMEZONE
BEGIN:VEVENT
DTSTART;TZID=Europe/Berlin:20230301T010000
DTEND;TZID=Europe/Berlin:20230316T005959
DTSTAMP:20260421T063648
CREATED:20220920T111512Z
LAST-MODIFIED:20220920T111512Z
UID:5578-1677632400-1678928399@www.ghr-leonberg.de
SUMMARY:Testzeitraum VERA 8
DESCRIPTION:
URL:https://www.ghr-leonberg.de/termin/testzeitraum-vera-8/
END:VEVENT
BEGIN:VEVENT
DTSTART;TZID=Europe/Berlin:20230302T010000
DTEND;TZID=Europe/Berlin:20230303T005959
DTSTAMP:20260421T063648
CREATED:20221127T171225Z
LAST-MODIFIED:20221127T171225Z
UID:5692-1677718800-1677805199@www.ghr-leonberg.de
SUMMARY:Tag der offenen Tür
DESCRIPTION:Sie sind herzlich eingeladen zum Tag der offenen Tür am Donnerstag\, den 02.03.2023 an unserer Schule. Nach einem gemeinsamen Auftakt um 16:00 Uhr in der Aula können Sie sich einen Eindruck vom Schulleben und den Angeboten der Gerhart-Hauptmann-Realschule verschaffen. Es erwarten Sie: \n\n\n\nRundgänge zu unterschiedlichen FachangebotenVerbindung zwischen Theorie und PraxisInfostände zur Ganztagesschule\, der Schulsozialarbeit und Präventionuvm.\n\n\n\nWir laden Sie recht herzlich dazu ein.
URL:https://www.ghr-leonberg.de/termin/tag-der-offenen-tuer-4/
END:VEVENT
BEGIN:VEVENT
DTSTART;TZID=Europe/Berlin:20230306T010000
DTEND;TZID=Europe/Berlin:20230310T005959
DTSTAMP:20260421T063648
CREATED:20220920T111712Z
LAST-MODIFIED:20230126T144106Z
UID:5586-1678064400-1678409999@www.ghr-leonberg.de
SUMMARY:Anmeldung in die 5.Klasse
DESCRIPTION:
URL:https://www.ghr-leonberg.de/termin/anmeldung-weiterfuehrende-schulen-4/
END:VEVENT
BEGIN:VEVENT
DTSTART;TZID=Europe/Berlin:20230306T010000
DTEND;TZID=Europe/Berlin:20230314T005959
DTSTAMP:20260421T063648
CREATED:20220920T111549Z
LAST-MODIFIED:20220920T111550Z
UID:5580-1678064400-1678755599@www.ghr-leonberg.de
SUMMARY:Kommunikationsprüfung Kl.9c\, 10a\, 10b
DESCRIPTION:
URL:https://www.ghr-leonberg.de/termin/kommunikationspruefung-kl-9c-10a-10b/
END:VEVENT
BEGIN:VEVENT
DTSTART;TZID=Europe/Berlin:20230314T010000
DTEND;TZID=Europe/Berlin:20230315T005959
DTSTAMP:20260421T063648
CREATED:20220920T111616Z
LAST-MODIFIED:20220920T111616Z
UID:5582-1678755600-1678841999@www.ghr-leonberg.de
SUMMARY:Elternabende Kl.5-7
DESCRIPTION:
URL:https://www.ghr-leonberg.de/termin/elternabende-kl-5-7/
END:VEVENT
BEGIN:VEVENT
DTSTART;TZID=Europe/Berlin:20230316T000000
DTEND;TZID=Europe/Berlin:20230316T235959
DTSTAMP:20260421T063648
CREATED:20230309T091555Z
LAST-MODIFIED:20230309T091558Z
UID:6020-1678924800-1679011199@www.ghr-leonberg.de
SUMMARY:Elternabende Kl.8-10
DESCRIPTION:
URL:https://www.ghr-leonberg.de/termin/elternabende-kl-8-10-3/
END:VEVENT
BEGIN:VEVENT
DTSTART;TZID=Europe/Berlin:20230323T010000
DTEND;TZID=Europe/Berlin:20230324T005959
DTSTAMP:20260421T063648
CREATED:20220920T111733Z
LAST-MODIFIED:20220920T111734Z
UID:5588-1679533200-1679619599@www.ghr-leonberg.de
SUMMARY:Roter Salon
DESCRIPTION:
URL:https://www.ghr-leonberg.de/termin/roter-salon/
END:VEVENT
END:VCALENDAR