BEGIN:VCALENDAR
VERSION:2.0
PRODID:-//Gerhart-Hauptmann-Realschule - ECPv6.15.20//NONSGML v1.0//EN
CALSCALE:GREGORIAN
METHOD:PUBLISH
X-WR-CALNAME:Gerhart-Hauptmann-Realschule
X-ORIGINAL-URL:https://www.ghr-leonberg.de
X-WR-CALDESC:Veranstaltungen für Gerhart-Hauptmann-Realschule
REFRESH-INTERVAL;VALUE=DURATION:PT1H
X-Robots-Tag:noindex
X-PUBLISHED-TTL:PT1H
BEGIN:VTIMEZONE
TZID:Europe/Berlin
BEGIN:DAYLIGHT
TZOFFSETFROM:+0100
TZOFFSETTO:+0200
TZNAME:CEST
DTSTART:20220327T010000
END:DAYLIGHT
BEGIN:STANDARD
TZOFFSETFROM:+0200
TZOFFSETTO:+0100
TZNAME:CET
DTSTART:20221030T010000
END:STANDARD
BEGIN:DAYLIGHT
TZOFFSETFROM:+0100
TZOFFSETTO:+0200
TZNAME:CEST
DTSTART:20230326T010000
END:DAYLIGHT
BEGIN:STANDARD
TZOFFSETFROM:+0200
TZOFFSETTO:+0100
TZNAME:CET
DTSTART:20231029T010000
END:STANDARD
BEGIN:DAYLIGHT
TZOFFSETFROM:+0100
TZOFFSETTO:+0200
TZNAME:CEST
DTSTART:20240331T010000
END:DAYLIGHT
BEGIN:STANDARD
TZOFFSETFROM:+0200
TZOFFSETTO:+0100
TZNAME:CET
DTSTART:20241027T010000
END:STANDARD
END:VTIMEZONE
BEGIN:VEVENT
DTSTART;TZID=Europe/Berlin:20230511T020000
DTEND;TZID=Europe/Berlin:20230512T015959
DTSTAMP:20260421T145742
CREATED:20220920T112006Z
LAST-MODIFIED:20220920T112007Z
UID:5597-1683770400-1683856799@www.ghr-leonberg.de
SUMMARY:Schulkonferenz
DESCRIPTION:
URL:https://www.ghr-leonberg.de/termin/schulkonferenz-3/
END:VEVENT
BEGIN:VEVENT
DTSTART;TZID=Europe/Berlin:20230515T020000
DTEND;TZID=Europe/Berlin:20230516T015959
DTSTAMP:20260421T145742
CREATED:20220920T112101Z
LAST-MODIFIED:20220920T112101Z
UID:5601-1684116000-1684202399@www.ghr-leonberg.de
SUMMARY:Deutsch-Abschlussprüfung
DESCRIPTION:
URL:https://www.ghr-leonberg.de/termin/deutsch-abschlusspruefung-2/
END:VEVENT
BEGIN:VEVENT
DTSTART;TZID=Europe/Berlin:20230517T020000
DTEND;TZID=Europe/Berlin:20230518T015959
DTSTAMP:20260421T145742
CREATED:20220920T112123Z
LAST-MODIFIED:20220920T112123Z
UID:5603-1684288800-1684375199@www.ghr-leonberg.de
SUMMARY:Englisch-Abschlussprüfung
DESCRIPTION:
URL:https://www.ghr-leonberg.de/termin/englisch-abschlusspruefung-2/
END:VEVENT
BEGIN:VEVENT
DTSTART;TZID=Europe/Berlin:20230523T020000
DTEND;TZID=Europe/Berlin:20230524T015959
DTSTAMP:20260421T145742
CREATED:20220920T112146Z
LAST-MODIFIED:20220920T112147Z
UID:5605-1684807200-1684893599@www.ghr-leonberg.de
SUMMARY:Mathe-Abschlussprüfung
DESCRIPTION:
URL:https://www.ghr-leonberg.de/termin/mathe-abschlusspruefung-2/
END:VEVENT
BEGIN:VEVENT
DTSTART;TZID=Europe/Berlin:20230525T000000
DTEND;TZID=Europe/Berlin:20230525T235959
DTSTAMP:20260421T145742
CREATED:20230522T074901Z
LAST-MODIFIED:20230524T104330Z
UID:6122-1684972800-1685059199@www.ghr-leonberg.de
SUMMARY:(Abgesagt) Elterninformationsveranstaltung der Polizei Klassen 5-7
DESCRIPTION:
URL:https://www.ghr-leonberg.de/termin/elterninformationsveranstaltung-der-polizei-klassen-5-7/
END:VEVENT
BEGIN:VEVENT
DTSTART;TZID=Europe/Berlin:20230526T020000
DTEND;TZID=Europe/Berlin:20230527T015959
DTSTAMP:20260421T145742
CREATED:20220920T112210Z
LAST-MODIFIED:20220920T112211Z
UID:5607-1685066400-1685152799@www.ghr-leonberg.de
SUMMARY:Wahlpflichtfächer-Abschlussprüfung
DESCRIPTION:
URL:https://www.ghr-leonberg.de/termin/wahlpflichtfaecher-abschlusspruefung/
END:VEVENT
BEGIN:VEVENT
DTSTART;TZID=Europe/Berlin:20230529T020000
DTEND;TZID=Europe/Berlin:20230610T015959
DTSTAMP:20260421T145742
CREATED:20220920T112037Z
LAST-MODIFIED:20220920T112037Z
UID:5599-1685325600-1686362399@www.ghr-leonberg.de
SUMMARY:Pfingstferien
DESCRIPTION:
URL:https://www.ghr-leonberg.de/termin/pfingstferien-2/
END:VEVENT
END:VCALENDAR