BEGIN:VCALENDAR
VERSION:2.0
PRODID:-//Gerhart-Hauptmann-Realschule - ECPv6.15.20//NONSGML v1.0//EN
CALSCALE:GREGORIAN
METHOD:PUBLISH
X-ORIGINAL-URL:https://www.ghr-leonberg.de
X-WR-CALDESC:Veranstaltungen für Gerhart-Hauptmann-Realschule
REFRESH-INTERVAL;VALUE=DURATION:PT1H
X-Robots-Tag:noindex
X-PUBLISHED-TTL:PT1H
BEGIN:VTIMEZONE
TZID:Europe/Berlin
BEGIN:DAYLIGHT
TZOFFSETFROM:+0100
TZOFFSETTO:+0200
TZNAME:CEST
DTSTART:20220327T010000
END:DAYLIGHT
BEGIN:STANDARD
TZOFFSETFROM:+0200
TZOFFSETTO:+0100
TZNAME:CET
DTSTART:20221030T010000
END:STANDARD
BEGIN:DAYLIGHT
TZOFFSETFROM:+0100
TZOFFSETTO:+0200
TZNAME:CEST
DTSTART:20230326T010000
END:DAYLIGHT
BEGIN:STANDARD
TZOFFSETFROM:+0200
TZOFFSETTO:+0100
TZNAME:CET
DTSTART:20231029T010000
END:STANDARD
BEGIN:DAYLIGHT
TZOFFSETFROM:+0100
TZOFFSETTO:+0200
TZNAME:CEST
DTSTART:20240331T010000
END:DAYLIGHT
BEGIN:STANDARD
TZOFFSETFROM:+0200
TZOFFSETTO:+0100
TZNAME:CET
DTSTART:20241027T010000
END:STANDARD
END:VTIMEZONE
BEGIN:VEVENT
DTSTART;TZID=Europe/Berlin:20230703T020000
DTEND;TZID=Europe/Berlin:20230705T015959
DTSTAMP:20260421T235603
CREATED:20220920T112404Z
LAST-MODIFIED:20230522T080922Z
UID:5613-1688349600-1688522399@www.ghr-leonberg.de
SUMMARY:Zeitraum mündliche Prüfung (RS\, HS)
DESCRIPTION:
URL:https://www.ghr-leonberg.de/termin/zeitraum-muendliche-pruefung-rs-hs/
END:VEVENT
BEGIN:VEVENT
DTSTART;TZID=Europe/Berlin:20230713T180000
DTEND;TZID=Europe/Berlin:20230713T193000
DTSTAMP:20260421T235603
CREATED:20230710T172824Z
LAST-MODIFIED:20230710T172915Z
UID:6166-1689271200-1689276600@www.ghr-leonberg.de
SUMMARY:Kennenlern-Elternabend 5.Klasse
DESCRIPTION:Liebe Eltern und Erziehungsberechtigte\,hiermit laden wir Sie herzlich zum Kennenlern-Elternabend der neuen fünften Klassen ein. \n\n\n\nDieser findet am Donnerstag\, den 13. Juli 2023 um 18 Uhr statt.Es wird zuerst eine gemeinsame Begrüßung in der Aula geben. Im Anschluss wird der Elternabend \n\n\n\nbei den Klassenleitungsteams der Klassen 5a und 5b fortgesetzt. \n\n\n\nTagesordnung: \n\n\n\n\nAlles Wichtige zum Start an der GHR\n\n\n\nKennenlernen der Klassenleitungsteams\n\n\n\nGegenseitige Erwartungen\n\n\n\nOrganisatorisches zum Schullandheim im MonbachtalMit freundlichen GrüßenDie Schulleitung und das Klassenleitungsteam
URL:https://www.ghr-leonberg.de/termin/kennelern-elternabend-5-klasse/
END:VEVENT
BEGIN:VEVENT
DTSTART;TZID=Europe/Berlin:20230714T020000
DTEND;TZID=Europe/Berlin:20230715T015959
DTSTAMP:20260421T235603
CREATED:20220920T112435Z
LAST-MODIFIED:20220920T112436Z
UID:5615-1689300000-1689386399@www.ghr-leonberg.de
SUMMARY:Abschlussfeier Kl.9c\, 10a\, 10b
DESCRIPTION:
URL:https://www.ghr-leonberg.de/termin/abschlussfeier-kl-9c-10a-10b/
END:VEVENT
BEGIN:VEVENT
DTSTART;TZID=Europe/Berlin:20230719T020000
DTEND;TZID=Europe/Berlin:20230722T015959
DTSTAMP:20260421T235603
CREATED:20220920T112500Z
LAST-MODIFIED:20220920T112500Z
UID:5617-1689732000-1689991199@www.ghr-leonberg.de
SUMMARY:Projekttage
DESCRIPTION:
URL:https://www.ghr-leonberg.de/termin/projekttage-2/
END:VEVENT
BEGIN:VEVENT
DTSTART;TZID=Europe/Berlin:20230721T020000
DTEND;TZID=Europe/Berlin:20230722T015959
DTSTAMP:20260421T235603
CREATED:20220920T112519Z
LAST-MODIFIED:20220920T112519Z
UID:5619-1689904800-1689991199@www.ghr-leonberg.de
SUMMARY:Schulfest
DESCRIPTION:
URL:https://www.ghr-leonberg.de/termin/schulfest-2/
END:VEVENT
BEGIN:VEVENT
DTSTART;TZID=Europe/Berlin:20230726T020000
DTEND;TZID=Europe/Berlin:20230727T015959
DTSTAMP:20260421T235603
CREATED:20220920T112545Z
LAST-MODIFIED:20220920T112545Z
UID:5621-1690336800-1690423199@www.ghr-leonberg.de
SUMMARY:Letzter Schultag - Zeugnisausgabe
DESCRIPTION:
URL:https://www.ghr-leonberg.de/termin/letzter-schultag-zeugnisausgabe/
END:VEVENT
END:VCALENDAR