BEGIN:VCALENDAR
VERSION:2.0
PRODID:-//Gerhart-Hauptmann-Realschule - ECPv6.15.20//NONSGML v1.0//EN
CALSCALE:GREGORIAN
METHOD:PUBLISH
X-ORIGINAL-URL:https://www.ghr-leonberg.de
X-WR-CALDESC:Veranstaltungen für Gerhart-Hauptmann-Realschule
REFRESH-INTERVAL;VALUE=DURATION:PT1H
X-Robots-Tag:noindex
X-PUBLISHED-TTL:PT1H
BEGIN:VTIMEZONE
TZID:Europe/Berlin
BEGIN:DAYLIGHT
TZOFFSETFROM:+0100
TZOFFSETTO:+0200
TZNAME:CEST
DTSTART:20230326T010000
END:DAYLIGHT
BEGIN:STANDARD
TZOFFSETFROM:+0200
TZOFFSETTO:+0100
TZNAME:CET
DTSTART:20231029T010000
END:STANDARD
BEGIN:DAYLIGHT
TZOFFSETFROM:+0100
TZOFFSETTO:+0200
TZNAME:CEST
DTSTART:20240331T010000
END:DAYLIGHT
BEGIN:STANDARD
TZOFFSETFROM:+0200
TZOFFSETTO:+0100
TZNAME:CET
DTSTART:20241027T010000
END:STANDARD
BEGIN:DAYLIGHT
TZOFFSETFROM:+0100
TZOFFSETTO:+0200
TZNAME:CEST
DTSTART:20250330T010000
END:DAYLIGHT
BEGIN:STANDARD
TZOFFSETFROM:+0200
TZOFFSETTO:+0100
TZNAME:CET
DTSTART:20251026T010000
END:STANDARD
END:VTIMEZONE
BEGIN:VEVENT
DTSTART;TZID=Europe/Berlin:20240325T000000
DTEND;TZID=Europe/Berlin:20240405T235959
DTSTAMP:20260423T151920
CREATED:20240107T132511Z
LAST-MODIFIED:20240107T132513Z
UID:6663-1711324800-1712361599@www.ghr-leonberg.de
SUMMARY:Osterferien
DESCRIPTION:
URL:https://www.ghr-leonberg.de/termin/osterferien-3/
END:VEVENT
BEGIN:VEVENT
DTSTART;TZID=Europe/Berlin:20240416T000000
DTEND;TZID=Europe/Berlin:20240416T235959
DTSTAMP:20260423T151920
CREATED:20230906T091015Z
LAST-MODIFIED:20230906T091020Z
UID:6373-1713225600-1713311999@www.ghr-leonberg.de
SUMMARY:GHR Berufsmesse
DESCRIPTION:
URL:https://www.ghr-leonberg.de/termin/ghr-berufsmesse/
END:VEVENT
BEGIN:VEVENT
DTSTART;TZID=Europe/Berlin:20240419T000000
DTEND;TZID=Europe/Berlin:20240419T235959
DTSTAMP:20260423T151920
CREATED:20240317T201327Z
LAST-MODIFIED:20240317T201330Z
UID:7352-1713484800-1713571199@www.ghr-leonberg.de
SUMMARY:Schülerdisco (SMV)
DESCRIPTION:
URL:https://www.ghr-leonberg.de/termin/schuelerdisco-smv/
END:VEVENT
BEGIN:VEVENT
DTSTART;TZID=Europe/Berlin:20240425T000000
DTEND;TZID=Europe/Berlin:20240425T235959
DTSTAMP:20260423T151920
CREATED:20230906T091053Z
LAST-MODIFIED:20230906T091059Z
UID:6375-1714003200-1714089599@www.ghr-leonberg.de
SUMMARY:Girls-and-Boys-Day (Kl.7 Pflicht)
DESCRIPTION:
URL:https://www.ghr-leonberg.de/termin/girls-and-boys-day-kl-7-pflicht/
END:VEVENT
END:VCALENDAR