BEGIN:VCALENDAR
VERSION:2.0
PRODID:-//Gerhart-Hauptmann-Realschule - ECPv6.15.20//NONSGML v1.0//EN
CALSCALE:GREGORIAN
METHOD:PUBLISH
X-WR-CALNAME:Gerhart-Hauptmann-Realschule
X-ORIGINAL-URL:https://www.ghr-leonberg.de
X-WR-CALDESC:Veranstaltungen für Gerhart-Hauptmann-Realschule
REFRESH-INTERVAL;VALUE=DURATION:PT1H
X-Robots-Tag:noindex
X-PUBLISHED-TTL:PT1H
BEGIN:VTIMEZONE
TZID:Europe/Berlin
BEGIN:DAYLIGHT
TZOFFSETFROM:+0100
TZOFFSETTO:+0200
TZNAME:CEST
DTSTART:20230326T010000
END:DAYLIGHT
BEGIN:STANDARD
TZOFFSETFROM:+0200
TZOFFSETTO:+0100
TZNAME:CET
DTSTART:20231029T010000
END:STANDARD
BEGIN:DAYLIGHT
TZOFFSETFROM:+0100
TZOFFSETTO:+0200
TZNAME:CEST
DTSTART:20240331T010000
END:DAYLIGHT
BEGIN:STANDARD
TZOFFSETFROM:+0200
TZOFFSETTO:+0100
TZNAME:CET
DTSTART:20241027T010000
END:STANDARD
BEGIN:DAYLIGHT
TZOFFSETFROM:+0100
TZOFFSETTO:+0200
TZNAME:CEST
DTSTART:20250330T010000
END:DAYLIGHT
BEGIN:STANDARD
TZOFFSETFROM:+0200
TZOFFSETTO:+0100
TZNAME:CET
DTSTART:20251026T010000
END:STANDARD
END:VTIMEZONE
BEGIN:VEVENT
DTSTART;TZID=Europe/Berlin:20240624T000000
DTEND;TZID=Europe/Berlin:20240702T235959
DTSTAMP:20260424T031200
CREATED:20240607T094518Z
LAST-MODIFIED:20240607T094522Z
UID:7515-1719187200-1719964799@www.ghr-leonberg.de
SUMMARY:Mündliche Prüfungsvorbereitung Deutsch und Mathe
DESCRIPTION:
URL:https://www.ghr-leonberg.de/termin/muendliche-pruefungsvorbereitung-deutsch-und-mathe/
END:VEVENT
BEGIN:VEVENT
DTSTART;TZID=Europe/Berlin:20240701T000000
DTEND;TZID=Europe/Berlin:20240709T235959
DTSTAMP:20260424T031200
CREATED:20230906T093124Z
LAST-MODIFIED:20230906T093129Z
UID:6407-1719792000-1720569599@www.ghr-leonberg.de
SUMMARY:Mündlicher Prüfungszeitraum (RS und HS)
DESCRIPTION:
URL:https://www.ghr-leonberg.de/termin/muendlicher-pruefungszeitraum-rs-und-hs/
END:VEVENT
BEGIN:VEVENT
DTSTART;TZID=Europe/Berlin:20240711T000000
DTEND;TZID=Europe/Berlin:20240711T235959
DTSTAMP:20260424T031200
CREATED:20230906T093229Z
LAST-MODIFIED:20230906T093234Z
UID:6411-1720656000-1720742399@www.ghr-leonberg.de
SUMMARY:Kennenlern-Elternabend Kl.5
DESCRIPTION:
URL:https://www.ghr-leonberg.de/termin/kennenlern-elternabend-kl-5/
END:VEVENT
BEGIN:VEVENT
DTSTART;TZID=Europe/Berlin:20240712T000000
DTEND;TZID=Europe/Berlin:20240712T235959
DTSTAMP:20260424T031200
CREATED:20230906T093158Z
LAST-MODIFIED:20230906T093204Z
UID:6409-1720742400-1720828799@www.ghr-leonberg.de
SUMMARY:Entlassfeier Abschlussklassen
DESCRIPTION:
URL:https://www.ghr-leonberg.de/termin/entlassfeier-abschlussklassen/
END:VEVENT
BEGIN:VEVENT
DTSTART;TZID=Europe/Berlin:20240717T000000
DTEND;TZID=Europe/Berlin:20240719T235959
DTSTAMP:20260424T031200
CREATED:20230906T093301Z
LAST-MODIFIED:20230906T093307Z
UID:6413-1721174400-1721433599@www.ghr-leonberg.de
SUMMARY:Projekttage
DESCRIPTION:
URL:https://www.ghr-leonberg.de/termin/projekttage-3/
END:VEVENT
BEGIN:VEVENT
DTSTART;TZID=Europe/Berlin:20240724T000000
DTEND;TZID=Europe/Berlin:20240724T235959
DTSTAMP:20260424T031200
CREATED:20230906T093340Z
LAST-MODIFIED:20230906T093345Z
UID:6415-1721779200-1721865599@www.ghr-leonberg.de
SUMMARY:Zeugnisausgabe
DESCRIPTION:
URL:https://www.ghr-leonberg.de/termin/zeugnisausgabe/
END:VEVENT
END:VCALENDAR