BEGIN:VCALENDAR
VERSION:2.0
PRODID:-//Gerhart-Hauptmann-Realschule - ECPv6.15.20//NONSGML v1.0//EN
CALSCALE:GREGORIAN
METHOD:PUBLISH
X-WR-CALNAME:Gerhart-Hauptmann-Realschule
X-ORIGINAL-URL:https://www.ghr-leonberg.de
X-WR-CALDESC:Veranstaltungen für Gerhart-Hauptmann-Realschule
REFRESH-INTERVAL;VALUE=DURATION:PT1H
X-Robots-Tag:noindex
X-PUBLISHED-TTL:PT1H
BEGIN:VTIMEZONE
TZID:Europe/Berlin
BEGIN:DAYLIGHT
TZOFFSETFROM:+0100
TZOFFSETTO:+0200
TZNAME:CEST
DTSTART:20230326T010000
END:DAYLIGHT
BEGIN:STANDARD
TZOFFSETFROM:+0200
TZOFFSETTO:+0100
TZNAME:CET
DTSTART:20231029T010000
END:STANDARD
BEGIN:DAYLIGHT
TZOFFSETFROM:+0100
TZOFFSETTO:+0200
TZNAME:CEST
DTSTART:20240331T010000
END:DAYLIGHT
BEGIN:STANDARD
TZOFFSETFROM:+0200
TZOFFSETTO:+0100
TZNAME:CET
DTSTART:20241027T010000
END:STANDARD
BEGIN:DAYLIGHT
TZOFFSETFROM:+0100
TZOFFSETTO:+0200
TZNAME:CEST
DTSTART:20250330T010000
END:DAYLIGHT
BEGIN:STANDARD
TZOFFSETFROM:+0200
TZOFFSETTO:+0100
TZNAME:CET
DTSTART:20251026T010000
END:STANDARD
END:VTIMEZONE
BEGIN:VEVENT
DTSTART;TZID=Europe/Berlin:20240909T000000
DTEND;TZID=Europe/Berlin:20240909T235959
DTSTAMP:20260424T061356
CREATED:20240726T081129Z
LAST-MODIFIED:20240726T084320Z
UID:7587-1725840000-1725926399@www.ghr-leonberg.de
SUMMARY:Schulbeginn für das Schuljahr 2024/25
DESCRIPTION:Liebe Schülerinnen und Schüler\,das neue Schuljahr beginnt wieder am Montag\, den 09.09.24 um 8:30 Uhr für die Klassen 6-10 und die VKL. In welchem Zimmer ihr Unterricht habt\, seht ihr wie immer im Foyer. Am Montag habt ihr Unterricht von der 2. bis zur 4. Stunde bei eurer Klassenlehrkraft\, danach folgt der Fachunterricht. Es findet noch kein Nachmittagsunterricht statt. Dieser startet erst ab Dienstag. Am Dienstag\, den 10.09.24 begrüßen wir unsere drei neuen 5. Klassen um 10:00 Uhr in der Aula. Wir freuen uns schon sehr auf euch.Der Ganztag beginnt am 23.9.24. Die Angebote hängen im Foyer aus.Eure Schulleitung
URL:https://www.ghr-leonberg.de/termin/schulbeginn-fuer-das-schuljahr-2024-25/
END:VEVENT
BEGIN:VEVENT
DTSTART;TZID=Europe/Berlin:20240910T100000
DTEND;TZID=Europe/Berlin:20240910T120000
DTSTAMP:20260424T061356
CREATED:20240726T081358Z
LAST-MODIFIED:20240726T081406Z
UID:7589-1725962400-1725969600@www.ghr-leonberg.de
SUMMARY:Aufnahmefeier Klasse 5
DESCRIPTION:
URL:https://www.ghr-leonberg.de/termin/aufnahmefeier-klasse-5-4/
END:VEVENT
BEGIN:VEVENT
DTSTART;TZID=Europe/Berlin:20240916T000000
DTEND;TZID=Europe/Berlin:20240918T235959
DTSTAMP:20260424T061356
CREATED:20240726T081631Z
LAST-MODIFIED:20240726T081636Z
UID:7595-1726444800-1726703999@www.ghr-leonberg.de
SUMMARY:Schullandheim Klasse 5 Monbachtal
DESCRIPTION:
URL:https://www.ghr-leonberg.de/termin/schullandheim-klasse-5-monbachtal/
END:VEVENT
BEGIN:VEVENT
DTSTART;TZID=Europe/Berlin:20240923T183000
DTEND;TZID=Europe/Berlin:20240923T210000
DTSTAMP:20260424T061356
CREATED:20240920T084000Z
LAST-MODIFIED:20240920T084002Z
UID:7631-1727116200-1727125200@www.ghr-leonberg.de
SUMMARY:Elternabend Kl.5-7
DESCRIPTION:
URL:https://www.ghr-leonberg.de/termin/elternabend-kl-5-7-2/
END:VEVENT
BEGIN:VEVENT
DTSTART;TZID=Europe/Berlin:20240924T180000
DTEND;TZID=Europe/Berlin:20240924T183000
DTSTAMP:20260424T061356
CREATED:20240920T084352Z
LAST-MODIFIED:20240920T084742Z
UID:7633-1727200800-1727202600@www.ghr-leonberg.de
SUMMARY:Berufsorientierung-Elternabend Kl. 8c\, 9ab
DESCRIPTION:Sehr geehrte Eltern und Erziehungsberechtigten\, \n\n\n\nSie sind herzlich eingeladen zu unserem BO-Elternabend in der Aula\, an dem Sie Informationen zur Berufsorientierung an unserer Schule erhalten.
URL:https://www.ghr-leonberg.de/termin/berufsorientierung-elternabend-kl-8c-9ab/
END:VEVENT
BEGIN:VEVENT
DTSTART;TZID=Europe/Berlin:20240924T183000
DTEND;TZID=Europe/Berlin:20240924T210000
DTSTAMP:20260424T061356
CREATED:20240920T084455Z
LAST-MODIFIED:20240920T084458Z
UID:7635-1727202600-1727211600@www.ghr-leonberg.de
SUMMARY:Elternabend Kl.8-10
DESCRIPTION:
URL:https://www.ghr-leonberg.de/termin/elternabend-kl-8-10-3/
END:VEVENT
END:VCALENDAR